BEGIN:VCALENDAR
VERSION:2.0
PRODID:-//AJ-JA - ECPv5.5.0.1//NONSGML v1.0//EN
CALSCALE:GREGORIAN
METHOD:PUBLISH
X-WR-CALNAME:AJ-JA
X-ORIGINAL-URL:https://www.aj-ja.be
X-WR-CALDESC:évènements pour AJ-JA
BEGIN:VTIMEZONE
TZID:Europe/Brussels
BEGIN:DAYLIGHT
TZOFFSETFROM:+0100
TZOFFSETTO:+0200
TZNAME:CEST
DTSTART:20210328T010000
END:DAYLIGHT
BEGIN:STANDARD
TZOFFSETFROM:+0200
TZOFFSETTO:+0100
TZNAME:CET
DTSTART:20211031T010000
END:STANDARD
BEGIN:DAYLIGHT
TZOFFSETFROM:+0100
TZOFFSETTO:+0200
TZNAME:CEST
DTSTART:20220327T010000
END:DAYLIGHT
BEGIN:STANDARD
TZOFFSETFROM:+0200
TZOFFSETTO:+0100
TZNAME:CET
DTSTART:20221030T010000
END:STANDARD
END:VTIMEZONE
BEGIN:VEVENT
DTSTART;VALUE=DATE:20221104
DTEND;VALUE=DATE:20221107
DTSTAMP:20210420T033202
CREATED:20210125T122205Z
LAST-MODIFIED:20210125T122205Z
UID:9262-1667520000-1667779199@www.aj-ja.be
SUMMARY:Formation Badge animateur JA
DESCRIPTION:
URL:https://www.aj-ja.be/event/formation-badge-animateur-ja-3/
LOCATION:Domaine de Mozet\, Rue du Tronquoy 2\, Mozet\, 5340\, Belgique
ATTACH;FMTTYPE=image/jpeg:https://www.aj-ja.be/wp-content/uploads/2020/09/weja19-89-scaled.jpg
END:VEVENT
BEGIN:VEVENT
DTSTART;VALUE=DATE:20220304
DTEND;VALUE=DATE:20220307
DTSTAMP:20210420T033202
CREATED:20210125T122059Z
LAST-MODIFIED:20210125T122059Z
UID:9263-1646352000-1646611199@www.aj-ja.be
SUMMARY:Formation Badge animateur JA
DESCRIPTION:
URL:https://www.aj-ja.be/event/formation-badge-animateur-ja-2/
LOCATION:Domaine de Mozet\, Rue du Tronquoy 2\, Mozet\, 5340\, Belgique
CATEGORIES:Formations
ATTACH;FMTTYPE=image/jpeg:https://www.aj-ja.be/wp-content/uploads/2020/09/weja19-89-scaled.jpg
END:VEVENT
BEGIN:VEVENT
DTSTART;VALUE=DATE:20220227
DTEND;VALUE=DATE:20220303
DTSTAMP:20210420T033202
CREATED:20200929T162939Z
LAST-MODIFIED:20210125T121719Z
UID:6337-1645920000-1646265599@www.aj-ja.be
SUMMARY:Camp Carnaval Explos
DESCRIPTION:
URL:https://www.aj-ja.be/event/camp-carnaval-explos/
LOCATION:De Hole Rielen\, Kasterlee\, Belgique
CATEGORIES:Camps
ATTACH;FMTTYPE=image/jpeg:https://www.aj-ja.be/wp-content/uploads/2020/09/explos-7.jpeg
ORGANIZER;CN="Jeunesse%20Adventiste%20ASBL":MAILTO:info@jeunesseadventiste.be
END:VEVENT
BEGIN:VEVENT
DTSTART;VALUE=DATE:20220227
DTEND;VALUE=DATE:20220303
DTSTAMP:20210420T033202
CREATED:20200920T092629Z
LAST-MODIFIED:20210125T121757Z
UID:6268-1645920000-1646265599@www.aj-ja.be
SUMMARY:Camp Carnaval Tisons
DESCRIPTION:
URL:https://www.aj-ja.be/event/camp-carnaval-tisons/
LOCATION:De Hole Rielen\, Kasterlee\, Belgique
CATEGORIES:Camps
ATTACH;FMTTYPE=image/jpeg:https://www.aj-ja.be/wp-content/uploads/2020/09/tisons-2020-32.jpeg
ORGANIZER;CN="Jeunesse%20Adventiste%20ASBL":MAILTO:info@jeunesseadventiste.be
END:VEVENT
BEGIN:VEVENT
DTSTART;VALUE=DATE:20211113
DTEND;VALUE=DATE:20211115
DTSTAMP:20210420T033202
CREATED:20200929T163823Z
LAST-MODIFIED:20201021T091022Z
UID:6342-1636761600-1636934399@www.aj-ja.be
SUMMARY:Formation "Expression artistique"
DESCRIPTION:
URL:https://www.aj-ja.be/event/formation-expression-artistique/
LOCATION:La Marlagne\, Chemin des Marronniers 26\, Namur\, 5100\, Belgique
END:VEVENT
BEGIN:VEVENT
DTSTART;VALUE=DATE:20211008
DTEND;VALUE=DATE:20211011
DTSTAMP:20210420T033202
CREATED:20200929T165539Z
LAST-MODIFIED:20210401T193230Z
UID:6356-1633651200-1633910399@www.aj-ja.be
SUMMARY:Formation Badge animateur JA
DESCRIPTION:Lieu : Domaine de Mozet\, Namur. \nFormations ouvertes uniquement aux 2ème et 3ème années. \nInscriptions à partir du 1er septembre 2021.
URL:https://www.aj-ja.be/event/formation-badge-animateur-ja/
LOCATION:Domaine de Mozet\, Rue du Tronquoy 2\, Mozet\, 5340\, Belgique
CATEGORIES:Formations
ATTACH;FMTTYPE=image/png:https://www.aj-ja.be/wp-content/uploads/2021/04/Hero_FR.png
END:VEVENT
BEGIN:VEVENT
DTSTART;VALUE=DATE:20210903
DTEND;VALUE=DATE:20210905
DTSTAMP:20210420T033202
CREATED:20200929T170738Z
LAST-MODIFIED:20200929T170738Z
UID:6359-1630627200-1630799999@www.aj-ja.be
SUMMARY:CLE 21
DESCRIPTION:
URL:https://www.aj-ja.be/event/cle-21/
LOCATION:Domaine de Mozet\, Rue du Tronquoy 2\, Mozet\, 5340\, Belgique
ATTACH;FMTTYPE=image/jpeg:https://www.aj-ja.be/wp-content/uploads/2020/09/cle19-2.jpeg
ORGANIZER;CN="Jeunesse%20Adventiste%20ASBL":MAILTO:info@jeunesseadventiste.be
END:VEVENT
BEGIN:VEVENT
DTSTART;TZID=Europe/Brussels:20210801T080000
DTEND;TZID=Europe/Brussels:20210808T170000
DTSTAMP:20210420T033202
CREATED:20201214T171842Z
LAST-MODIFIED:20210401T192955Z
UID:8768-1627804800-1628442000@www.aj-ja.be
SUMMARY:Camporee Union France
DESCRIPTION:DATES : Du 1er au 8 août 2021 (voyage inclus)\nLIEU : Moulin de l’Ayrolle – St-Félix-de-Pallières (Var) – France\nHEBERGEMENT : Sous tente\nPARTICIPANTS : Ados entre 12 et 17 ans\nNOMBRE DE PLACES : 36\nPRIX : 280 € (Voyage en car depuis Bruxelles inclus)\nDIRECTION : Philippe LEDUC (Lagomys) \nInscriptions à partir du 1er mai 2021.
URL:https://www.aj-ja.be/event/camporee-union-france/
LOCATION:Moulin de l’Ayrolle\, Moulin de l'Ayrolle\, Saint Félix de Pallières\, 30140\, France
CATEGORIES:Camps
ATTACH;FMTTYPE=image/jpeg:https://www.aj-ja.be/wp-content/uploads/2020/12/Camporee-WEB-scaled.jpg
END:VEVENT
BEGIN:VEVENT
DTSTART;TZID=Europe/Brussels:20210718T080000
DTEND;TZID=Europe/Brussels:20210728T170000
DTSTAMP:20210420T033202
CREATED:20201214T171125Z
LAST-MODIFIED:20210401T192645Z
UID:8766-1626595200-1627491600@www.aj-ja.be
SUMMARY:Camp Compagnons
DESCRIPTION:DATES : Du 18 au 28 juillet 2021\nLIEU : Belgique\nPARTICIPANTS : Jeunes entre 17 et 25 ans\nPRIX : … €\nDIRECTEUR : Christophe DE CLERCQ \nInscriptions à partir du 1er mai 2021.
URL:https://www.aj-ja.be/event/camp-compagnons/
CATEGORIES:Camps
END:VEVENT
BEGIN:VEVENT
DTSTART;TZID=Europe/Brussels:20210701T160000
DTEND;TZID=Europe/Brussels:20210709T110000
DTSTAMP:20210420T033202
CREATED:20201214T170333Z
LAST-MODIFIED:20210401T192509Z
UID:8761-1625155200-1625828400@www.aj-ja.be
SUMMARY:Camp d'été Explos
DESCRIPTION:DATES : 1-9 juillet 2021\nLIEU : Royompré (Jalhay)\nHEBERGEMENT : Sous tentes\nPARTICIPANTS : Enfants entre 13 et 16 ans\nNOMBRE DE PLACES : 36\nPRIX : 170 €\nDIRECTION : Milca LIENARD \nInscriptions ouvertes.
URL:https://www.aj-ja.be/event/camp-dete-explos/
LOCATION:Royompré\, Jalhay\, Belgique\, Royompré\, 5\, Jalhay\, 4845\, Belgique
CATEGORIES:Camps
END:VEVENT
BEGIN:VEVENT
DTSTART;TZID=Europe/Brussels:20210701T160000
DTEND;TZID=Europe/Brussels:20210709T110000
DTSTAMP:20210420T033202
CREATED:20201214T140009Z
LAST-MODIFIED:20210401T192124Z
UID:8750-1625155200-1625828400@www.aj-ja.be
SUMMARY:Camp d'été pré-explos
DESCRIPTION:DATES : 1-9 juillet 2021\nLIEU : Royompré (Jalhay)\nHEBERGEMENT : Sous tentes\nPARTICIPANTS : Enfants entre 10 et 13 ans\nNOMBRE DE PLACES : 36\nPRIX : 170 €\nDIRECTION : Victor LIENARD (Buse) \nInscriptions ouvertes.
URL:https://www.aj-ja.be/event/camp-dete-pre-explos/
LOCATION:Royompré\, Jalhay\, Belgique\, Royompré\, 5\, Jalhay\, 4845\, Belgique
CATEGORIES:Camps
ATTACH;FMTTYPE=image/png:https://www.aj-ja.be/wp-content/uploads/2021/03/Hero-02.png
END:VEVENT
BEGIN:VEVENT
DTSTART;VALUE=DATE:20210701
DTEND;VALUE=DATE:20210710
DTSTAMP:20210420T033202
CREATED:20201111T095412Z
LAST-MODIFIED:20210401T191845Z
UID:7154-1625097600-1625875199@www.aj-ja.be
SUMMARY:Camp d'été Tisons
DESCRIPTION:DATES : Du 1er au 9 juillet 2021\nLIEU : Gîte du petit fagnard (Jalhay)\nHEBERGEMENT : En bâtiment\nPARTICIPANTS : Enfants entre 7 et 10 ans\nNOMBRE DE PLACES : 36\nPRIX : 170 €\nDIRECTION : Karen ANDRADE \nInscriptions ouvertes.
URL:https://www.aj-ja.be/event/camp-dete-tisons/
LOCATION:Le Petit Fagnard\, Jalhay\, Belgique\, Surister 44\, Jalhay\, 4845\, Belgique
CATEGORIES:Camps
ATTACH;FMTTYPE=image/png:https://www.aj-ja.be/wp-content/uploads/2021/03/Hero_FR_Tisons.png
ORGANIZER;CN="Jeunesse%20Adventiste%20ASBL":MAILTO:info@jeunesseadventiste.be
END:VEVENT
END:VCALENDAR